BEGIN:VCALENDAR
VERSION:2.0
PRODID:-//Worker Solidarity Network - ECPv6.15.20//NONSGML v1.0//EN
CALSCALE:GREGORIAN
METHOD:PUBLISH
X-ORIGINAL-URL:https://workersolidarity.ca/?lang=ko
X-WR-CALDESC:Worker Solidarity Network 이벤트
REFRESH-INTERVAL;VALUE=DURATION:PT1H
X-Robots-Tag:noindex
X-PUBLISHED-TTL:PT1H
BEGIN:VTIMEZONE
TZID:America/Vancouver
BEGIN:DAYLIGHT
TZOFFSETFROM:-0800
TZOFFSETTO:-0700
TZNAME:PDT
DTSTART:20250309T100000
END:DAYLIGHT
BEGIN:STANDARD
TZOFFSETFROM:-0700
TZOFFSETTO:-0800
TZNAME:PST
DTSTART:20251102T090000
END:STANDARD
BEGIN:DAYLIGHT
TZOFFSETFROM:-0800
TZOFFSETTO:-0700
TZNAME:PDT
DTSTART:20260308T100000
END:DAYLIGHT
BEGIN:STANDARD
TZOFFSETFROM:-0700
TZOFFSETTO:-0800
TZNAME:PST
DTSTART:20261101T090000
END:STANDARD
BEGIN:DAYLIGHT
TZOFFSETFROM:-0800
TZOFFSETTO:-0700
TZNAME:PDT
DTSTART:20270314T100000
END:DAYLIGHT
BEGIN:STANDARD
TZOFFSETFROM:-0700
TZOFFSETTO:-0800
TZNAME:PST
DTSTART:20271107T090000
END:STANDARD
END:VTIMEZONE
BEGIN:VEVENT
DTSTART;TZID=America/Vancouver:20260217T163000
DTEND;TZID=America/Vancouver:20260217T183000
DTSTAMP:20260419T114450
CREATED:20260331T181303Z
LAST-MODIFIED:20260331T181303Z
UID:38504-1771345800-1771353000@workersolidarity.ca
SUMMARY:2월 멤버십 미팅: 캔디그램 에디션!
DESCRIPTION:WSN의 워커스 라이징에 참여하세요: 일반 회원 회의\n\n언제 2월 17일 화요일 오후 4시 30분\n장소: WSN 밴쿠버 사무실(312 메인 스트리트)\n입구는 버스 정류장 옆 코르도바에 있습니다. 부저를 누르면 입장할 수 있습니다!  \n풀뿌리에서 WSN을 구축하고 커뮤니티의 근로자 권리 증진을 위한 중요한 토론에 동참해 주세요! 우리는 온라인 공간에서 모이는 것에서 벗어나고 있으며\, 매월 수요일마다 Worker Wednesdays를 개최하지 않을 것입니다. 대신\, 직접 만나서 조직의 현재 상황에 대한 업데이트를 공유하고\, 다양한 워크숍을 통해 지식과 노동자의 힘을 모으고\, 회원\, 거리 팀 및 위원회 위원들이 조직의 업무가 어떻게 나아갈지에 대해 발언할 수 있는 공간을 만들고자 합니다!   \n이번 회의에서는 다음 사항을 중점적으로 논의할 예정입니다:\n1) 근로자 센터 건립 관련 업데이트 청취\n2) 위원회 관련 업데이트 청취\n3) 봄 컨퍼런스 준비 관련 작업 \n스낵과 음료가 제공됩니다. \n질문이나 접근성 관련 요구 사항이 있는 경우 이메일( kris@workersolidarity.ca)로 문의해 주세요. \n여기에서 등록하기
URL:https://workersolidarity.ca/events/2%ec%9b%94-%eb%a9%a4%eb%b2%84%ec%8b%ad-%eb%af%b8%ed%8c%85-%ec%ba%94%eb%94%94%ea%b7%b8%eb%9e%a8-%ec%97%90%eb%94%94%ec%85%98/?lang=ko
CATEGORIES:참여하기
END:VEVENT
END:VCALENDAR