BEGIN:VCALENDAR
VERSION:2.0
PRODID:-//Worker Solidarity Network - ECPv6.15.20//NONSGML v1.0//EN
CALSCALE:GREGORIAN
METHOD:PUBLISH
X-WR-CALNAME:Worker Solidarity Network
X-ORIGINAL-URL:https://workersolidarity.ca/?lang=ko
X-WR-CALDESC:Worker Solidarity Network 이벤트
REFRESH-INTERVAL;VALUE=DURATION:PT1H
X-Robots-Tag:noindex
X-PUBLISHED-TTL:PT1H
BEGIN:VTIMEZONE
TZID:America/Vancouver
BEGIN:DAYLIGHT
TZOFFSETFROM:-0800
TZOFFSETTO:-0700
TZNAME:PDT
DTSTART:20250309T100000
END:DAYLIGHT
BEGIN:STANDARD
TZOFFSETFROM:-0700
TZOFFSETTO:-0800
TZNAME:PST
DTSTART:20251102T090000
END:STANDARD
BEGIN:DAYLIGHT
TZOFFSETFROM:-0800
TZOFFSETTO:-0700
TZNAME:PDT
DTSTART:20260308T100000
END:DAYLIGHT
BEGIN:STANDARD
TZOFFSETFROM:-0700
TZOFFSETTO:-0800
TZNAME:PST
DTSTART:20261101T090000
END:STANDARD
BEGIN:DAYLIGHT
TZOFFSETFROM:-0800
TZOFFSETTO:-0700
TZNAME:PDT
DTSTART:20270314T100000
END:DAYLIGHT
BEGIN:STANDARD
TZOFFSETFROM:-0700
TZOFFSETTO:-0800
TZNAME:PST
DTSTART:20271107T090000
END:STANDARD
END:VTIMEZONE
BEGIN:VEVENT
DTSTART;TZID=America/Vancouver:20260203T174500
DTEND;TZID=America/Vancouver:20260203T193000
DTSTAMP:20260419T170345
CREATED:20260331T181329Z
LAST-MODIFIED:20260331T181329Z
UID:38520-1770140700-1770147000@workersolidarity.ca
SUMMARY:WSN x UBC 사회 정의 센터 발표: 영화의 밤!
DESCRIPTION:WSN과 UBC 사회정의센터와 함께 UBC에서 영화의 밤을 즐겨보세요! 전설적인 노동 조직가이자 유나이티드 팜 워커스의 공동 창립자이자 노동자 권리\, 여성 권리\, 동성애자 해방\, 인종 정의를 평생 옹호한 돌로레스 후에르타에 관한 강력한 다큐멘터리 돌로레스 (2017)를 상영할 예정입니다.  \n이 상영은 2025 BC 이민자 서밋의 짧은 동영상과 함께 진행되며\, 우리 지역사회에서 이주 노동자와 노동 정의를 지원하기 위한 지속적인 노력을 강조합니다. 저녁은 질문과 토론의 시간으로 마무리되며\, 직장 내 정의와 집단 행동에 관심이 있는 동료 학생 및 지역사회 구성원들과 소통할 수 있는 기회도 마련됩니다.  \n노동 이슈를 처음 접하든 이미 참여하고 있든\, 부담 없이 배우고 성찰하며 참여할 수 있는 방법입니다! \n날짜: 날짜: 2월 3일 \n시간 시간: 오후 5시 45분 문 오픈\, 오후 6시 15분 상영 시작 \n위치 UBC 라이프 빌딩 내부(스타벅스 맞은편)\, 6138 Student Union Blvd\, V6T 1Z1\, The Norm 극장 \n여기에서 무료 티켓을 받으세요!
URL:https://workersolidarity.ca/events/wsn-x-ubc-%ec%82%ac%ed%9a%8c-%ec%a0%95%ec%9d%98-%ec%84%bc%ed%84%b0-%eb%b0%9c%ed%91%9c-%ec%98%81%ed%99%94%ec%9d%98-%eb%b0%a4/?lang=ko
LOCATION:노름 극장\, UBC 라이프 빌딩\, 6138 학생회관 대로\, 밴쿠버\, BC\, V6T 1Z1\, Canada
CATEGORIES:참여하기
END:VEVENT
END:VCALENDAR