BEGIN:VCALENDAR
VERSION:2.0
PRODID:-//Worker Solidarity Network - ECPv6.15.20//NONSGML v1.0//EN
CALSCALE:GREGORIAN
METHOD:PUBLISH
X-WR-CALNAME:Worker Solidarity Network
X-ORIGINAL-URL:https://workersolidarity.ca/?lang=zh-hans
X-WR-CALDESC:Worker Solidarity Network的活动
REFRESH-INTERVAL;VALUE=DURATION:PT1H
X-Robots-Tag:noindex
X-PUBLISHED-TTL:PT1H
BEGIN:VTIMEZONE
TZID:America/Vancouver
BEGIN:DAYLIGHT
TZOFFSETFROM:-0800
TZOFFSETTO:-0700
TZNAME:PDT
DTSTART:20250309T100000
END:DAYLIGHT
BEGIN:STANDARD
TZOFFSETFROM:-0700
TZOFFSETTO:-0800
TZNAME:PST
DTSTART:20251102T090000
END:STANDARD
BEGIN:DAYLIGHT
TZOFFSETFROM:-0800
TZOFFSETTO:-0700
TZNAME:PDT
DTSTART:20260308T100000
END:DAYLIGHT
BEGIN:STANDARD
TZOFFSETFROM:-0700
TZOFFSETTO:-0800
TZNAME:PST
DTSTART:20261101T090000
END:STANDARD
BEGIN:DAYLIGHT
TZOFFSETFROM:-0800
TZOFFSETTO:-0700
TZNAME:PDT
DTSTART:20270314T100000
END:DAYLIGHT
BEGIN:STANDARD
TZOFFSETFROM:-0700
TZOFFSETTO:-0800
TZNAME:PST
DTSTART:20271107T090000
END:STANDARD
END:VTIMEZONE
BEGIN:VEVENT
DTSTART;TZID=America/Vancouver:20260127T080000
DTEND;TZID=America/Vancouver:20260127T170000
DTSTAMP:20260419T093318
CREATED:20260331T181312Z
LAST-MODIFIED:20260331T181312Z
UID:38506-1769500800-1769533200@workersolidarity.ca
SUMMARY:二月份会员大会
DESCRIPTION:在此注册 \n加入 WSN 的工人崛起：会员大会\n\n时间2 月 17 日星期二下午 4:30\n地点： WSN 温哥华办事处（312 Main Street） WSN 温哥华办事处（312 Main Street）\n入口在 Cordova，公交车站旁边。您可以使用蜂鸣器进入！  \n帮助在基层建立 WSN，与我们一起讨论在我们的社区促进工人权利的重要问题！我们将不再在网上聚会，也不会每月举办 “工人周三 “活动。取而代之的是，我们希望通过面对面的交流，分享组织的最新进展，参加各种工作坊，共同积累知识和工人力量，并为我们的会员、街道团队和委员会成员创造空间，让他们对组织工作的推进发表意见！   \n在本次会议上，我们将重点讨论：\n1) 听取关于建设工人中心的最新情况介绍\n2) 听取关于我们各委员会的最新情况介绍\n3) 努力筹备春季会议 \n我们将提供小吃和饮料。请注意，必须佩戴口罩。  \n如果您认为您会晚到，请提前通知我们，或在当天给克里斯发短信：(613) 859-0210。 \n如有任何问题或无障碍需求，请发送电子邮件至kris@workersolidarity.ca
URL:https://workersolidarity.ca/events/%e4%ba%8c%e6%9c%88%e4%bb%bd%e4%bc%9a%e5%91%98%e5%a4%a7%e4%bc%9a/?lang=zh-hans
CATEGORIES:参与其中,工作坊
END:VEVENT
END:VCALENDAR