BEGIN:VCALENDAR
VERSION:2.0
PRODID:-//Worker Solidarity Network - ECPv6.15.20//NONSGML v1.0//EN
CALSCALE:GREGORIAN
METHOD:PUBLISH
X-ORIGINAL-URL:https://workersolidarity.ca/?lang=vi
X-WR-CALDESC:Events for Worker Solidarity Network
REFRESH-INTERVAL;VALUE=DURATION:PT1H
X-Robots-Tag:noindex
X-PUBLISHED-TTL:PT1H
BEGIN:VTIMEZONE
TZID:America/Vancouver
BEGIN:DAYLIGHT
TZOFFSETFROM:-0800
TZOFFSETTO:-0700
TZNAME:PDT
DTSTART:20250309T100000
END:DAYLIGHT
BEGIN:STANDARD
TZOFFSETFROM:-0700
TZOFFSETTO:-0800
TZNAME:PST
DTSTART:20251102T090000
END:STANDARD
BEGIN:DAYLIGHT
TZOFFSETFROM:-0800
TZOFFSETTO:-0700
TZNAME:PDT
DTSTART:20260308T100000
END:DAYLIGHT
BEGIN:STANDARD
TZOFFSETFROM:-0700
TZOFFSETTO:-0800
TZNAME:PST
DTSTART:20261101T090000
END:STANDARD
BEGIN:DAYLIGHT
TZOFFSETFROM:-0800
TZOFFSETTO:-0700
TZNAME:PDT
DTSTART:20270314T100000
END:DAYLIGHT
BEGIN:STANDARD
TZOFFSETFROM:-0700
TZOFFSETTO:-0800
TZNAME:PST
DTSTART:20271107T090000
END:STANDARD
END:VTIMEZONE
BEGIN:VEVENT
DTSTART;TZID=America/Vancouver:20260120T163000
DTEND;TZID=America/Vancouver:20260120T183000
DTSTAMP:20260419T180220
CREATED:20260331T181333Z
LAST-MODIFIED:20260331T181333Z
UID:38525-1768926600-1768933800@workersolidarity.ca
SUMMARY:Hội nghị toàn thể hội viên tháng Giêng: Huấn luyện sơ cứu trong công tác tổ chức
DESCRIPTION:ĐĂNG KÝ TẠI ĐÂY \nHãy tham gia cuộc họp toàn thể hội viên của phong trào Công nhân vùng lên của WSN!\n\nThời gian: Thứ Ba\, ngày 20 tháng 1\, lúc 4:30 chiều!\n Địa điểm: Văn phòng WSN tại Vancouver (312 Main Street)\n Lối vào nằm trên đường Cordova\, cạnh trạm xe buýt. Bạn có thể dùng chuông để được vào!  \nHãy giúp xây dựng WSN từ cơ sở và tham gia cùng chúng tôi vào các cuộc thảo luận quan trọng để thúc đẩy quyền lợi người lao động trong cộng đồng! Chúng tôi đang chuyển hướng khỏi các không gian trực tuyến và sẽ không tổ chức “Ngày thứ Tư của Người lao động” hàng tháng nữa. Thay vào đó\, chúng tôi muốn kết nối trực tiếp để chia sẻ thông tin cập nhật về hoạt động của tổ chức\, tham gia các hội thảo khác nhau nhằm cùng nhau xây dựng kiến ​​thức và sức mạnh của người lao động\, đồng thời tạo không gian cho các Thành viên\, Nhóm Đường phố và Thành viên Ủy ban được đóng góp ý kiến ​​về hướng đi tiếp theo của tổ chức!   \nTrong cuộc họp này\, chúng ta sẽ tập trung vào các vấn đề sau:\n 1) Cập nhật thông tin về các vấn đề của người lao động tại British Columbia\n 2) Tham gia khóa học “Huấn luyện sơ cứu” do thành viên được chứng nhận của WSN hướng dẫn!\n 3) Lên kế hoạch cho năm tới! \nĐồ ăn nhẹ và đồ uống sẽ được cung cấp. Vui lòng lưu ý rằng việc đeo khẩu trang là bắt buộc. Nếu bạn có bất kỳ câu hỏi hoặc nhu cầu hỗ trợ nào\, vui lòng gửi email đến kris@workersolidarity.ca
URL:https://workersolidarity.ca/events/hoi-nghi-toan-the-hoi-vien-thang-gieng-huan-luyen-so-cuu-trong-cong-tac-to-chuc/?lang=vi
LOCATION:BC
CATEGORIES:Hãy tham gia!,Hội thảo
END:VEVENT
BEGIN:VEVENT
DTSTART;TZID=America/Vancouver:20260127T080000
DTEND;TZID=America/Vancouver:20260127T170000
DTSTAMP:20260419T180220
CREATED:20260331T181314Z
LAST-MODIFIED:20260331T181314Z
UID:38508-1769500800-1769533200@workersolidarity.ca
SUMMARY:Cuộc họp thường kỳ tháng Hai của các thành viên
DESCRIPTION:ĐĂNG KÝ TẠI ĐÂY \nHãy tham gia cuộc họp toàn thể hội viên của phong trào Công nhân vùng lên của WSN!!\n\nThời gian: Thứ Ba\, ngày 17 tháng 2\, lúc 4:30 chiều\n Địa điểm: Văn phòng WSN tại Vancouver (312 Main Street)\n Lối vào nằm trên đường Cordova\, cạnh trạm xe buýt. Bạn có thể dùng chuông để được vào!  \nHãy giúp xây dựng WSN từ cơ sở và tham gia cùng chúng tôi vào các cuộc thảo luận quan trọng để thúc đẩy quyền lợi người lao động trong cộng đồng! Chúng tôi đang chuyển hướng khỏi các không gian trực tuyến và sẽ không tổ chức “Ngày thứ Tư của Người lao động” hàng tháng nữa. Thay vào đó\, chúng tôi muốn kết nối trực tiếp để chia sẻ thông tin cập nhật về hoạt động của tổ chức\, tham gia các hội thảo khác nhau nhằm cùng nhau xây dựng kiến ​​thức và sức mạnh của người lao động\, đồng thời tạo không gian cho các Thành viên\, Nhóm Đường phố và Thành viên Ủy ban được đóng góp ý kiến ​​về hướng đi tiếp theo của tổ chức!   \nTại cuộc họp này\, chúng ta sẽ tập trung vào các vấn đề sau:\n 1) Nghe báo cáo cập nhật về việc xây dựng trung tâm công nhân\n 2) Nghe báo cáo cập nhật về các ủy ban của chúng tôi\n 3) Đang chuẩn bị cho hội nghị vào mùa xuân. \nĐồ ăn nhẹ và đồ uống sẽ được cung cấp. Vui lòng lưu ý rằng việc đeo khẩu trang là bắt buộc.  \nNếu bạn nghĩ mình sẽ đến muộn\, vui lòng báo trước cho chúng tôi hoặc bạn có thể nhắn tin cho Kris vào ngày hôm đó theo số (613) 859-0210. \nNếu bạn có bất kỳ câu hỏi hoặc nhu cầu hỗ trợ nào về khả năng tiếp cận\, vui lòng gửi email đến kris@workersolidarity.ca
URL:https://workersolidarity.ca/events/cuoc-hop-thuong-ky-thang-hai-cua-cac-thanh-vien/?lang=vi
LOCATION:BC
CATEGORIES:Hãy tham gia!,Hội thảo
END:VEVENT
END:VCALENDAR