BEGIN:VCALENDAR
VERSION:2.0
PRODID:-//Worker Solidarity Network - ECPv6.15.20//NONSGML v1.0//EN
CALSCALE:GREGORIAN
METHOD:PUBLISH
X-ORIGINAL-URL:https://workersolidarity.ca/?lang=vi
X-WR-CALDESC:Events for Worker Solidarity Network
REFRESH-INTERVAL;VALUE=DURATION:PT1H
X-Robots-Tag:noindex
X-PUBLISHED-TTL:PT1H
BEGIN:VTIMEZONE
TZID:America/Vancouver
BEGIN:DAYLIGHT
TZOFFSETFROM:-0800
TZOFFSETTO:-0700
TZNAME:PDT
DTSTART:20250309T100000
END:DAYLIGHT
BEGIN:STANDARD
TZOFFSETFROM:-0700
TZOFFSETTO:-0800
TZNAME:PST
DTSTART:20251102T090000
END:STANDARD
BEGIN:DAYLIGHT
TZOFFSETFROM:-0800
TZOFFSETTO:-0700
TZNAME:PDT
DTSTART:20260308T100000
END:DAYLIGHT
BEGIN:STANDARD
TZOFFSETFROM:-0700
TZOFFSETTO:-0800
TZNAME:PST
DTSTART:20261101T090000
END:STANDARD
BEGIN:DAYLIGHT
TZOFFSETFROM:-0800
TZOFFSETTO:-0700
TZNAME:PDT
DTSTART:20270314T100000
END:DAYLIGHT
BEGIN:STANDARD
TZOFFSETFROM:-0700
TZOFFSETTO:-0800
TZNAME:PST
DTSTART:20271107T090000
END:STANDARD
END:VTIMEZONE
BEGIN:VEVENT
DTSTART;TZID=America/Vancouver:20260331T170000
DTEND;TZID=America/Vancouver:20260331T190000
DTSTAMP:20260419T112953
CREATED:20260331T181538Z
LAST-MODIFIED:20260331T181538Z
UID:38597-1774976400-1774983600@workersolidarity.ca
SUMMARY:Chương trình chiếu phim "Đoàn kết": Khám phá quyền lao động trong điện ảnh.
DESCRIPTION:Tuần lễ nâng cao nhận thức về lao động nông nghiệp di cư trân trọng giới thiệu CHƯƠNG TRÌNH CHIẾU PHIM ĐOÀN KẾT: Khám phá quyền lao động trong điện ảnh! \n Với sự hợp tác cùng @bicilibre.ubc @sulong.ubc @safei.ubc\, chúng tôi sẽ trình chiếu các bộ phim sau: \n Giấc mơ Canada – Ilse Moreno\n Sa Ngalan ng Tubo – Onin Tagaro\n Phim Hội nghị Thượng đỉnh Người di cư năm 2026 \n THỜI GIAN: Thứ Ba\, ngày 31 tháng 3\, từ 17:00 đến 19:\n ĐỊA ĐIỂM: Phòng 150\, 1933 West Mall\, Vancouver BC V6T 1Z2 (UBC)\n 🍕PIZZA MIỄN PHÍ! Đăng ký tại đây!
URL:https://workersolidarity.ca/events/chuong-trinh-chieu-phim-doan-ket-kham-pha-quyen-lao-dong-trong-dien-anh/?lang=vi
CATEGORIES:Hãy tham gia!
END:VEVENT
END:VCALENDAR