BEGIN:VCALENDAR
VERSION:2.0
PRODID:-//Worker Solidarity Network - ECPv6.15.20//NONSGML v1.0//EN
CALSCALE:GREGORIAN
METHOD:PUBLISH
X-ORIGINAL-URL:https://workersolidarity.ca/?lang=ar
X-WR-CALDESC:Events for Worker Solidarity Network
REFRESH-INTERVAL;VALUE=DURATION:PT1H
X-Robots-Tag:noindex
X-PUBLISHED-TTL:PT1H
BEGIN:VTIMEZONE
TZID:America/Vancouver
BEGIN:DAYLIGHT
TZOFFSETFROM:-0800
TZOFFSETTO:-0700
TZNAME:PDT
DTSTART:20250309T100000
END:DAYLIGHT
BEGIN:STANDARD
TZOFFSETFROM:-0700
TZOFFSETTO:-0800
TZNAME:PST
DTSTART:20251102T090000
END:STANDARD
BEGIN:DAYLIGHT
TZOFFSETFROM:-0800
TZOFFSETTO:-0700
TZNAME:PDT
DTSTART:20260308T100000
END:DAYLIGHT
BEGIN:STANDARD
TZOFFSETFROM:-0700
TZOFFSETTO:-0800
TZNAME:PST
DTSTART:20261101T090000
END:STANDARD
BEGIN:DAYLIGHT
TZOFFSETFROM:-0800
TZOFFSETTO:-0700
TZNAME:PDT
DTSTART:20270314T100000
END:DAYLIGHT
BEGIN:STANDARD
TZOFFSETFROM:-0700
TZOFFSETTO:-0800
TZNAME:PST
DTSTART:20271107T090000
END:STANDARD
END:VTIMEZONE
BEGIN:VEVENT
DTSTART;TZID=America/Vancouver:20260120T163000
DTEND;TZID=America/Vancouver:20260120T183000
DTSTAMP:20260419T125650
CREATED:20260331T181342Z
LAST-MODIFIED:20260331T181342Z
UID:38526-1768926600-1768933800@workersolidarity.ca
SUMMARY:اجتماع العضوية العامة لشهر يناير: التدريب على الإسعافات الأولية للتنظيم
DESCRIPTION:سجّل هنا \nانضم إلى “نهضة العمال” التابعة لشبكة WSN: اجتماع العضوية العامة!\n\nالموعد: الثلاثاء، 20 يناير الساعة 4:30 مساءً\nأين: مكتب شبكة WSN في فانكوفر (312 الشارع الرئيسي)\nالمدخل في كوردوفا، بجانب موقف الحافلات. يمكنك استخدام الجرس للسماح لك بالدخول!  \nساعدوا في بناء شبكة WSN على مستوى القاعدة الشعبية وانضموا إلينا في مناقشات مهمة في النهوض بحقوق العمال في مجتمعاتنا! نحن نبتعد عن التجمع في مساحات على الإنترنت ولن يكون لدينا يوم الأربعاء العمالي كل شهر. بدلًا من ذلك، نريد أن نتواصل شخصيًا حيث سنتبادل التحديثات حول ما وصلت إليه المنظمة، ونعقد ورش عمل مختلفة لبناء معرفتنا وقوة العمال بشكل جماعي ونخلق مساحة لأعضائنا وفرق الشارع وأعضاء اللجنة لإبداء الرأي حول كيفية تقدم عمل منظمتنا إلى الأمام!   \nسنركز في هذا الاجتماع على:\n1) الحصول على آخر المستجدات حول قضايا العمال التي تحدث في كولومبيا البريطانية\n2) حضور ورشة عمل “التدريب على الإسعافات الأولية” التي ييسرها عضو معتمد من شبكة المرأة العالمية!\n3) التخطيط لعامنا المقبل! \nسيتم تقديم الوجبات الخفيفة والمشروبات. يرجى ملاحظة أن الكمامات إلزامية. إذا كانت لديك أي أسئلة أو احتياجات تتعلق بإمكانية الوصول، يُرجى إرسال بريد إلكتروني إلى kris@workersolidarity.ca
URL:https://workersolidarity.ca/events/%d8%a7%d8%ac%d8%aa%d9%85%d8%a7%d8%b9-%d8%a7%d9%84%d8%b9%d8%b6%d9%88%d9%8a%d8%a9-%d8%a7%d9%84%d8%b9%d8%a7%d9%85%d8%a9-%d9%84%d8%b4%d9%87%d8%b1-%d9%8a%d9%86%d8%a7%d9%8a%d8%b1-%d8%a7%d9%84%d8%aa%d8%af/?lang=ar
LOCATION:قبل الميلاد
CATEGORIES:شارك معنا,ورش العمل
END:VEVENT
END:VCALENDAR