BEGIN:VCALENDAR
VERSION:2.0
PRODID:-//Worker Solidarity Network - ECPv6.15.20//NONSGML v1.0//EN
CALSCALE:GREGORIAN
METHOD:PUBLISH
X-WR-CALNAME:Worker Solidarity Network
X-ORIGINAL-URL:https://workersolidarity.ca/?lang=zh-hant
X-WR-CALDESC:Events for Worker Solidarity Network
REFRESH-INTERVAL;VALUE=DURATION:PT1H
X-Robots-Tag:noindex
X-PUBLISHED-TTL:PT1H
BEGIN:VTIMEZONE
TZID:America/Vancouver
BEGIN:DAYLIGHT
TZOFFSETFROM:-0800
TZOFFSETTO:-0700
TZNAME:PDT
DTSTART:20250309T100000
END:DAYLIGHT
BEGIN:STANDARD
TZOFFSETFROM:-0700
TZOFFSETTO:-0800
TZNAME:PST
DTSTART:20251102T090000
END:STANDARD
BEGIN:DAYLIGHT
TZOFFSETFROM:-0800
TZOFFSETTO:-0700
TZNAME:PDT
DTSTART:20260308T100000
END:DAYLIGHT
BEGIN:STANDARD
TZOFFSETFROM:-0700
TZOFFSETTO:-0800
TZNAME:PST
DTSTART:20261101T090000
END:STANDARD
BEGIN:DAYLIGHT
TZOFFSETFROM:-0800
TZOFFSETTO:-0700
TZNAME:PDT
DTSTART:20270314T100000
END:DAYLIGHT
BEGIN:STANDARD
TZOFFSETFROM:-0700
TZOFFSETTO:-0800
TZNAME:PST
DTSTART:20271107T090000
END:STANDARD
END:VTIMEZONE
BEGIN:VEVENT
DTSTART;TZID=America/Vancouver:20260203T174500
DTEND;TZID=America/Vancouver:20260203T193000
DTSTAMP:20260419T144323
CREATED:20260331T181318Z
LAST-MODIFIED:20260331T181318Z
UID:38513-1770140700-1770147000@workersolidarity.ca
SUMMARY:WSN x UBC 社會正義中心呈獻：電影之夜！
DESCRIPTION:加入WSN與UBC社會正義中心，在UBC舉辦電影之夜！我們將放映《 Dolores》（2017），這是一部關於傳奇勞工組織者、聯合農場工人共同創辦人、終身倡導工人權益、女性權利、同志解放與種族正義的強力紀錄片《Dolores Huerta》。  \n放映將搭配2025年卑詩移民高峰會的短片，突顯我們社區持續支持移工及勞工正義的工作。晚會將以提問與討論時間作結，並有機會與其他對職場正義及集體行動有興趣的同學及社區成員交流。  \n無論你是勞工議題的新手，還是已經參與其中，這都是一個低壓的學習、反思與參與方式！ \n日期：2月3日 \n時間：下午5：45開門，放映於6：15開始 \n地點：UBC生活大樓內的Norm劇院（星巴克對面），6138 Student Union Blvd，V6T 1Z1 \n在這裡免費購票！
URL:https://workersolidarity.ca/events/wsn-x-ubc-%e7%a4%be%e6%9c%83%e6%ad%a3%e7%be%a9%e4%b8%ad%e5%bf%83%e5%91%88%e7%8d%bb%ef%bc%9a%e9%9b%bb%e5%bd%b1%e4%b9%8b%e5%a4%9c%ef%bc%81/?lang=zh-hant
LOCATION:Norm 劇院，UBC Life Building（UBC生命大樓）\, 6138 學生會大道\, 溫哥華\, 卑詩\, V6T 1Z1\, Canada
CATEGORIES:參與其中
END:VEVENT
BEGIN:VEVENT
DTSTART;TZID=America/Vancouver:20260217T163000
DTEND;TZID=America/Vancouver:20260217T183000
DTSTAMP:20260419T144323
CREATED:20260331T181247Z
LAST-MODIFIED:20260331T181247Z
UID:38496-1771345800-1771353000@workersolidarity.ca
SUMMARY:二月會員大會：糖果快遞版！
DESCRIPTION:加入WSN的「工人起義：會員大會」\n\n時間：2月17日星期二下午\n4：30 地點：WSN溫哥華辦公室（312 Main Street）入口\n位於Cordova街，公車站旁。你可以用蜂鳴器被放進去！  \n協助在基層建立WSN，並加入我們，參與推動社區勞工權益的重要討論！我們正逐漸遠離在線上空間聚會，也不會每個月舉辦「工人星期三」。相反地，我們希望親自聯繫，分享組織的最新進展，參加各種工作坊，共同建立知識與工作力量，並為會員、街頭團隊及委員會成員創造空間，讓他們能對組織未來的工作方向發表意見！   \n本次會議將聚焦於：\n1）關於建立工人中心\n的聽證最新進展 2）我們委員會\n的聽證會最新進展 3）準備春季會議 \n現場將提供點心與飲料。 \n如果您有任何問題或無障礙需求，請寄信 給 kris@workersolidarity.ca \n點此註冊
URL:https://workersolidarity.ca/events/%e4%ba%8c%e6%9c%88%e6%9c%83%e5%93%a1%e5%a4%a7%e6%9c%83%ef%bc%9a%e7%b3%96%e6%9e%9c%e5%bf%ab%e9%81%9e%e7%89%88%ef%bc%81/?lang=zh-hant
CATEGORIES:參與其中
END:VEVENT
END:VCALENDAR