BEGIN:VCALENDAR
VERSION:2.0
PRODID:-//Worker Solidarity Network - ECPv6.15.20//NONSGML v1.0//EN
CALSCALE:GREGORIAN
METHOD:PUBLISH
X-WR-CALNAME:Worker Solidarity Network
X-ORIGINAL-URL:https://workersolidarity.ca/?lang=pa
X-WR-CALDESC:Events for Worker Solidarity Network
REFRESH-INTERVAL;VALUE=DURATION:PT1H
X-Robots-Tag:noindex
X-PUBLISHED-TTL:PT1H
BEGIN:VTIMEZONE
TZID:America/Vancouver
BEGIN:DAYLIGHT
TZOFFSETFROM:-0800
TZOFFSETTO:-0700
TZNAME:PDT
DTSTART:20250309T100000
END:DAYLIGHT
BEGIN:STANDARD
TZOFFSETFROM:-0700
TZOFFSETTO:-0800
TZNAME:PST
DTSTART:20251102T090000
END:STANDARD
BEGIN:DAYLIGHT
TZOFFSETFROM:-0800
TZOFFSETTO:-0700
TZNAME:PDT
DTSTART:20260308T100000
END:DAYLIGHT
BEGIN:STANDARD
TZOFFSETFROM:-0700
TZOFFSETTO:-0800
TZNAME:PST
DTSTART:20261101T090000
END:STANDARD
BEGIN:DAYLIGHT
TZOFFSETFROM:-0800
TZOFFSETTO:-0700
TZNAME:PDT
DTSTART:20270314T100000
END:DAYLIGHT
BEGIN:STANDARD
TZOFFSETFROM:-0700
TZOFFSETTO:-0800
TZNAME:PST
DTSTART:20271107T090000
END:STANDARD
END:VTIMEZONE
BEGIN:VEVENT
DTSTART;TZID=America/Vancouver:20260203T174500
DTEND;TZID=America/Vancouver:20260203T193000
DTSTAMP:20260419T114251
CREATED:20260331T181327Z
LAST-MODIFIED:20260331T181327Z
UID:38518-1770140700-1770147000@workersolidarity.ca
SUMMARY:WSN x UBC ਸੋਸ਼ਲ ਜਸਟਿਸ ਸੈਂਟਰ ਮੌਜੂਦ: ਮੂਵੀ ਨਾਈਟ!
DESCRIPTION:UBC ਵਿਖੇ ਇੱਕ ਮੂਵੀ ਨਾਈਟ ਲਈ WSN ਅਤੇ UBC ਸੋਸ਼ਲ ਜਸਟਿਸ ਸੈਂਟਰ ਨਾਲ ਜੁੜੋ! ਅਸੀਂ Dolores (2017) ਦੀ ਸਕ੍ਰੀਨਿੰਗ ਕਰਾਂਗੇ\, ਜੋ ਕਿ Dolores Huerta ਬਾਰੇ ਇੱਕ ਸ਼ਕਤੀਸ਼ਾਲੀ ਦਸਤਾਵੇਜ਼ੀ ਹੈ\, ਜੋ ਕਿ ਇੱਕ ਮਹਾਨ ਲੇਬਰ ਆਰਗੇਨਾਈਜ਼ਰ\, ਯੂਨਾਈਟਿਡ ਫਾਰਮ ਵਰਕਰਜ਼ ਦੀ ਸਹਿ-ਸੰਸਥਾਪਕ\, ਅਤੇ ਮਜ਼ਦੂਰਾਂ ਦੇ ਅਧਿਕਾਰਾਂ\, ਔਰਤਾਂ ਦੇ ਅਧਿਕਾਰਾਂ\, ਸਮਲਿੰਗੀ ਮੁਕਤੀ ਅਤੇ ਨਸਲੀ ਨਿਆਂ ਲਈ ਜੀਵਨ ਭਰ ਦੀ ਵਕੀਲ ਹੈ।  \nਇਸ ਸਕ੍ਰੀਨਿੰਗ ਨੂੰ 2025 ਬੀ.ਸੀ. ਮਾਈਗ੍ਰੈਂਟ ਸੰਮੇਲਨ ਦੇ ਇੱਕ ਛੋਟੇ ਵੀਡੀਓ ਨਾਲ ਜੋੜਿਆ ਜਾਵੇਗਾ\, ਜੋ ਸਾਡੇ ਭਾਈਚਾਰਿਆਂ ਵਿੱਚ ਪ੍ਰਵਾਸੀ ਕਾਮਿਆਂ ਅਤੇ ਕਿਰਤ ਨਿਆਂ ਦਾ ਸਮਰਥਨ ਕਰਨ ਵਾਲੇ ਚੱਲ ਰਹੇ ਕੰਮ ਨੂੰ ਉਜਾਗਰ ਕਰੇਗਾ। ਸ਼ਾਮ ਦਾ ਸਮਾਪਨ ਸਵਾਲਾਂ ਅਤੇ ਚਰਚਾ ਦੇ ਨਾਲ-ਨਾਲ ਸਾਥੀ ਵਿਦਿਆਰਥੀਆਂ ਅਤੇ ਕੰਮ ਵਾਲੀ ਥਾਂ ‘ਤੇ ਨਿਆਂ ਅਤੇ ਸਮੂਹਿਕ ਕਾਰਵਾਈ ਵਿੱਚ ਦਿਲਚਸਪੀ ਰੱਖਣ ਵਾਲੇ ਭਾਈਚਾਰੇ ਦੇ ਮੈਂਬਰਾਂ ਨਾਲ ਜੁੜਨ ਦਾ ਮੌਕਾ ਹੋਵੇਗਾ।  \nਭਾਵੇਂ ਤੁਸੀਂ ਜਣੇਪੇ ਦੇ ਮੁੱਦਿਆਂ ਵਿੱਚ ਨਵੇਂ ਹੋ ਜਾਂ ਪਹਿਲਾਂ ਹੀ ਸ਼ਾਮਲ ਹੋ\, ਇਹ ਸਿੱਖਣ\, ਸੋਚਣ ਅਤੇ ਸ਼ਾਮਲ ਹੋਣ ਦਾ ਇੱਕ ਘੱਟ ਦਬਾਅ ਵਾਲਾ ਤਰੀਕਾ ਹੈ! \nਮਿਤੀ: 3 ਫਰਵਰੀ \nਸਮਾਂ: ਦਰਵਾਜ਼ੇ ਸ਼ਾਮ 5:45 ਵਜੇ ਖੁੱਲ੍ਹਣਗੇ\, ਸਕ੍ਰੀਨਿੰਗ ਸ਼ਾਮ 6:15 ਵਜੇ ਸ਼ੁਰੂ ਹੋਵੇਗੀ। \nਸਥਾਨ: ਨੌਰਮ ਥੀਏਟਰ\, ਯੂਬੀਸੀ ਲਾਈਫ ਬਿਲਡਿੰਗ ਦੇ ਅੰਦਰ (ਸਟਾਰਬਕਸ ਦੇ ਸਾਹਮਣੇ)\, 6138 ਸਟੂਡੈਂਟ ਯੂਨੀਅਨ ਬਲਵਡ\, ਵੀ6ਟੀ 1ਜ਼ੈਡ1 \nਆਪਣੀਆਂ ਮੁਫ਼ਤ ਟਿਕਟਾਂ ਇੱਥੋਂ ਪ੍ਰਾਪਤ ਕਰੋ!
URL:https://workersolidarity.ca/events/wsn-x-ubc-%e0%a8%b8%e0%a9%8b%e0%a8%b8%e0%a8%bc%e0%a8%b2-%e0%a8%9c%e0%a8%b8%e0%a8%9f%e0%a8%bf%e0%a8%b8-%e0%a8%b8%e0%a9%88%e0%a8%82%e0%a8%9f%e0%a8%b0-%e0%a8%ae%e0%a9%8c%e0%a8%9c%e0%a9%82%e0%a8%a6/?lang=pa
LOCATION:ਨੌਰਮ ਥੀਏਟਰ\, ਯੂਬੀਸੀ ਲਾਈਫ ਬਿਲਡਿੰਗ\, 6138 ਵਿਦਿਆਰਥੀ ਯੂਨੀਅਨ ਬੁਲੇਵਾਰਡ\, ਵੈਨਕੂਵਰ\, ਬੀ.ਸੀ.\, V6T 1Z1\, Canada
CATEGORIES:ਸ਼ਾਮਲ ਹੋਵੋ
END:VEVENT
BEGIN:VEVENT
DTSTART;TZID=America/Vancouver:20260217T163000
DTEND;TZID=America/Vancouver:20260217T183000
DTSTAMP:20260419T114251
CREATED:20260331T181259Z
LAST-MODIFIED:20260331T181259Z
UID:38502-1771345800-1771353000@workersolidarity.ca
SUMMARY:ਫਰਵਰੀ ਮੈਂਬਰਸ਼ਿਪ ਮੀਟਿੰਗ: ਕੈਂਡੀਗ੍ਰਾਮ ਐਡੀਸ਼ਨ!
DESCRIPTION:WSN ਦੇ ਵਰਕਰਜ਼ ਰਾਈਜ਼ਿੰਗ ਵਿੱਚ ਸ਼ਾਮਲ ਹੋਵੋ: ਜਨਰਲ ਮੈਂਬਰਸ਼ਿਪ ਮੀਟਿੰਗ\n\nਕਦੋਂ: ਮੰਗਲਵਾਰ\, 17 ਫਰਵਰੀ ਸ਼ਾਮ 4:30 ਵਜੇ\n ਕਿੱਥੇ: WSN ਦਾ ਵੈਨਕੂਵਰ ਦਫ਼ਤਰ (312 ਮੇਨ ਸਟ੍ਰੀਟ)\n ਪ੍ਰਵੇਸ਼ ਦੁਆਰ ਕੋਰਡੋਵਾ ‘ਤੇ\, ਬੱਸ ਸਟਾਪ ਦੇ ਕੋਲ ਹੈ। ਤੁਸੀਂ ਅੰਦਰ ਜਾਣ ਲਈ ਬਜ਼ਰ ਦੀ ਵਰਤੋਂ ਕਰ ਸਕਦੇ ਹੋ!  \nਜ਼ਮੀਨੀ ਪੱਧਰ ‘ਤੇ WSN ਬਣਾਉਣ ਵਿੱਚ ਮਦਦ ਕਰੋ ਅਤੇ ਸਾਡੇ ਭਾਈਚਾਰਿਆਂ ਵਿੱਚ ਕਾਮਿਆਂ ਦੇ ਅਧਿਕਾਰਾਂ ਨੂੰ ਅੱਗੇ ਵਧਾਉਣ ਲਈ ਮਹੱਤਵਪੂਰਨ ਚਰਚਾਵਾਂ ਲਈ ਸਾਡੇ ਨਾਲ ਜੁੜੋ! ਅਸੀਂ ਔਨਲਾਈਨ ਥਾਵਾਂ ‘ਤੇ ਇਕੱਠੇ ਹੋਣ ਤੋਂ ਦੂਰ ਜਾ ਰਹੇ ਹਾਂ ਅਤੇ ਹਰ ਮਹੀਨੇ ਆਪਣੇ ਵਰਕਰ ਬੁੱਧਵਾਰ ਨਹੀਂ ਕਰਾਂਗੇ। ਇਸ ਦੀ ਬਜਾਏ\, ਅਸੀਂ ਵਿਅਕਤੀਗਤ ਤੌਰ ‘ਤੇ ਜੁੜਨਾ ਚਾਹੁੰਦੇ ਹਾਂ ਜਿੱਥੇ ਅਸੀਂ ਸੰਗਠਨ ਕਿੱਥੇ ਹੈ ਇਸ ਬਾਰੇ ਅਪਡੇਟਸ ਸਾਂਝੇ ਕਰਾਂਗੇ\, ਆਪਣੇ ਗਿਆਨ ਅਤੇ ਵਰਕਰ ਸ਼ਕਤੀ ਨੂੰ ਸਮੂਹਿਕ ਤੌਰ ‘ਤੇ ਬਣਾਉਣ ਲਈ ਵੱਖ-ਵੱਖ ਵਰਕਸ਼ਾਪਾਂ ਲਵਾਂਗੇ ਅਤੇ ਸਾਡੇ ਮੈਂਬਰਾਂ\, ਸਟ੍ਰੀਟ ਟੀਮਾਂ ਅਤੇ ਕਮੇਟੀ ਮੈਂਬਰਾਂ ਲਈ ਸਾਡੇ ਸੰਗਠਨ ਦੇ ਕੰਮ ਨੂੰ ਅੱਗੇ ਵਧਾਉਣ ਬਾਰੇ ਕਹਿਣ ਲਈ ਜਗ੍ਹਾ ਬਣਾਵਾਂਗੇ!   \nਇਸ ਮੀਟਿੰਗ ਵਿੱਚ\, ਅਸੀਂ ਇਹਨਾਂ ਗੱਲਾਂ ‘ਤੇ ਧਿਆਨ ਕੇਂਦਰਿਤ ਕਰਾਂਗੇ:\n 1) ਵਰਕਰ ਸੈਂਟਰ ਬਣਾਉਣ ਬਾਰੇ ਅੱਪਡੇਟ ਸੁਣਨਾ\n 2) ਸਾਡੀਆਂ ਕਮੇਟੀਆਂ ਬਾਰੇ ਅੱਪਡੇਟ ਸੁਣਨਾ\n 3) ਬਸੰਤ ਰੁੱਤ ਵਿੱਚ ਕਾਨਫਰੰਸ ਦੀ ਤਿਆਰੀ ‘ਤੇ ਕੰਮ ਕਰਨਾ \nਸਨੈਕਸ ਅਤੇ ਪੀਣ ਵਾਲੇ ਪਦਾਰਥ ਪ੍ਰਦਾਨ ਕੀਤੇ ਜਾਣਗੇ। \nਜੇਕਰ ਤੁਹਾਡੇ ਕੋਈ ਸਵਾਲ ਹਨ ਜਾਂ ਪਹੁੰਚਯੋਗਤਾ ਦੀਆਂ ਜ਼ਰੂਰਤਾਂ ਹਨ\, ਤਾਂ ਕਿਰਪਾ ਕਰਕੇ kris@workersolidarity.ca ‘ ਤੇ ਈਮੇਲ ਕਰੋ। \nਇੱਥੇ ਰਜਿਸਟਰ ਕਰੋ
URL:https://workersolidarity.ca/events/%e0%a8%ab%e0%a8%b0%e0%a8%b5%e0%a8%b0%e0%a9%80-%e0%a8%ae%e0%a9%88%e0%a8%82%e0%a8%ac%e0%a8%b0%e0%a8%b8%e0%a8%bc%e0%a8%bf%e0%a8%aa-%e0%a8%ae%e0%a9%80%e0%a8%9f%e0%a8%bf%e0%a9%b0%e0%a8%97-%e0%a8%95/?lang=pa
CATEGORIES:ਸ਼ਾਮਲ ਹੋਵੋ
END:VEVENT
END:VCALENDAR