BEGIN:VCALENDAR
VERSION:2.0
PRODID:-//Worker Solidarity Network - ECPv6.15.20//NONSGML v1.0//EN
CALSCALE:GREGORIAN
METHOD:PUBLISH
X-ORIGINAL-URL:https://workersolidarity.ca/?lang=zh-hant
X-WR-CALDESC:Events for Worker Solidarity Network
REFRESH-INTERVAL;VALUE=DURATION:PT1H
X-Robots-Tag:noindex
X-PUBLISHED-TTL:PT1H
BEGIN:VTIMEZONE
TZID:America/Vancouver
BEGIN:DAYLIGHT
TZOFFSETFROM:-0800
TZOFFSETTO:-0700
TZNAME:PDT
DTSTART:20240310T100000
END:DAYLIGHT
BEGIN:STANDARD
TZOFFSETFROM:-0700
TZOFFSETTO:-0800
TZNAME:PST
DTSTART:20241103T090000
END:STANDARD
BEGIN:DAYLIGHT
TZOFFSETFROM:-0800
TZOFFSETTO:-0700
TZNAME:PDT
DTSTART:20250309T100000
END:DAYLIGHT
BEGIN:STANDARD
TZOFFSETFROM:-0700
TZOFFSETTO:-0800
TZNAME:PST
DTSTART:20251102T090000
END:STANDARD
BEGIN:DAYLIGHT
TZOFFSETFROM:-0800
TZOFFSETTO:-0700
TZNAME:PDT
DTSTART:20260308T100000
END:DAYLIGHT
BEGIN:STANDARD
TZOFFSETFROM:-0700
TZOFFSETTO:-0800
TZNAME:PST
DTSTART:20261101T090000
END:STANDARD
END:VTIMEZONE
BEGIN:VEVENT
DTSTART;TZID=America/Vancouver:20250923T163000
DTEND;TZID=America/Vancouver:20250923T183000
DTSTAMP:20260419T062558
CREATED:20260331T181555Z
LAST-MODIFIED:20260331T181555Z
UID:38608-1758645000-1758652200@workersolidarity.ca
SUMMARY:WSN 的工人崛起：九月會員大會
DESCRIPTION:時間：9月23日星期二下午4：30！！\n地點：WSN溫哥華辦公室（312 Main Street）入口\n位於Cordova街，公車站旁。你可以用蜂鳴器被放進去！  \n協助在基層建立WSN，並加入我們，參與推動社區勞工權益的重要討論！我們正逐漸遠離在線上空間聚會，也不會每個月舉辦「工人星期三」。相反地，我們希望親自聯繫，分享組織的最新進展，參加各種工作坊，共同建立知識與工作力量，並為會員、街頭團隊及委員會成員創造空間，讓他們能對組織未來的工作方向發表意見！   \n本次會議我們將聚焦於：\n1）聆聽MLA會議及KYR促進培訓\n的最新消息 2）參加名為「基地建設：組織工人運動」的工作坊！\n3） 開始為新年下一場大型訓練週末制定策略！ \n現場將提供點心與飲料。請注意，口罩是強制的。如果您有任何問題或無障礙需求，請電郵 kris@workersolidarity.ca。   \n請在此註冊
URL:https://workersolidarity.ca/events/wsn-%e7%9a%84%e5%b7%a5%e4%ba%ba%e5%b4%9b%e8%b5%b7%ef%bc%9a%e4%b9%9d%e6%9c%88%e6%9c%83%e5%93%a1%e5%a4%a7%e6%9c%83/?lang=zh-hant
LOCATION:主街312號\, 主街312號\, 溫哥華\, 卑詩\, V6A 2T2\, Canada
CATEGORIES:工作坊
END:VEVENT
END:VCALENDAR