BEGIN:VCALENDAR
VERSION:2.0
PRODID:-//Worker Solidarity Network - ECPv6.15.20//NONSGML v1.0//EN
CALSCALE:GREGORIAN
METHOD:PUBLISH
X-ORIGINAL-URL:https://workersolidarity.ca/?lang=es
X-WR-CALDESC:Eventos para Worker Solidarity Network
REFRESH-INTERVAL;VALUE=DURATION:PT1H
X-Robots-Tag:noindex
X-PUBLISHED-TTL:PT1H
BEGIN:VTIMEZONE
TZID:America/Vancouver
BEGIN:DAYLIGHT
TZOFFSETFROM:-0800
TZOFFSETTO:-0700
TZNAME:PDT
DTSTART:20240310T100000
END:DAYLIGHT
BEGIN:STANDARD
TZOFFSETFROM:-0700
TZOFFSETTO:-0800
TZNAME:PST
DTSTART:20241103T090000
END:STANDARD
BEGIN:DAYLIGHT
TZOFFSETFROM:-0800
TZOFFSETTO:-0700
TZNAME:PDT
DTSTART:20250309T100000
END:DAYLIGHT
BEGIN:STANDARD
TZOFFSETFROM:-0700
TZOFFSETTO:-0800
TZNAME:PST
DTSTART:20251102T090000
END:STANDARD
BEGIN:DAYLIGHT
TZOFFSETFROM:-0800
TZOFFSETTO:-0700
TZNAME:PDT
DTSTART:20260308T100000
END:DAYLIGHT
BEGIN:STANDARD
TZOFFSETFROM:-0700
TZOFFSETTO:-0800
TZNAME:PST
DTSTART:20261101T090000
END:STANDARD
END:VTIMEZONE
BEGIN:VEVENT
DTSTART;TZID=America/Vancouver:20251023T120000
DTEND;TZID=America/Vancouver:20251023T133000
DTSTAMP:20260419T105724
CREATED:20260331T181452Z
LAST-MODIFIED:20260331T181452Z
UID:38567-1761220800-1761226200@workersolidarity.ca
SUMMARY:(Webinar) El GNL al descubierto: Asequibilidad\, reducción de la pobreza y acción por el clima
DESCRIPTION:Únete a este seminario web organizado por la Red de Solidaridad de los Trabajadores\, la Campaña de Emergencia Climática de BC y la Sociedad de Soluciones Políticas de BC. \nAntecedentes del evento \nRecientemente\, Columbia Británica empezó a exportar gas natural licuado (GNL) al extranjero. Actualmente\, la provincia está inmersa en un frenesí de construcción de infraestructuras de gas natural\, con muchos proyectos en construcción o pendientes de aprobación.  \nEsta expansión de los combustibles fósiles tiene implicaciones no sólo para el clima y nuestra salud\, sino también para la asequibilidad. En este seminario web conocerás las repercusiones de la expansión del GNL en el coste de la vida\, el empleo\, los trabajadores y nuestras facturas de gas y electricidad.  \nPonentes:\n– Iglika Ivanova\, BC Society for Policy Solutions\n– Ismail Askin\, Worker Solidarity Network\n– Emiko Newman\, BC Climate Emergency Campaign \nInscríbete aquí.
URL:https://workersolidarity.ca/events/webinar-el-gnl-al-descubierto-asequibilidad-reduccion-de-la-pobreza-y-accion-por-el-clima/?lang=es
END:VEVENT
END:VCALENDAR